BEGIN:VCALENDAR
VERSION:2.0
PRODID:-//Intand Corporation//Tandem//EN
METHOD:PUBLISH
BEGIN:VEVENT
DTSTAMP:20260419T144936Z
DTSTART:20260421T200000Z
DTEND:20260422T010000Z
TRANSP:TRANSPARENT
PRIORITY:0
SUMMARY:Ambassadors Celebration Breakfast Set up 
LOCATION:CRPC - Devos Chapel Stage\, CRPC - Devos Chapel Lobby\, CRPC - De
 vos Chapel
DESCRIPTION:Set up after LPA Lunch \n\n\nGroups:\nDevelopment\n\nSchools:\
 nCoral Ridge Presbyterian Church\nWestminster Academy - Lower/Prep School\
 nWestminster Academy - Upper School\n\nLocations:\nCRPC - Devos Chapel Sta
 ge\nCRPC - Devos Chapel Lobby\nCRPC - Devos Chapel\n\n
URL;VALUE=URI:http://crpc.wacad.tandem.co/index.php?type=view&action=event
 &id=97406
CREATED:20260324T164235Z
LAST-MODIFIED:20260416T122036Z
UID:event_request-97406-westminsteracademy@intand.com
END:VEVENT
END:VCALENDAR
